{"text_format":"1","workbook":"xlsx","n_sheets":3,"sheets":["데이터","스티커","info"],"not_rendered":{"charts":0,"images":0,"macros":1,"external_links":0,"defined_names":3,"comments":0,"pivot_tables":0},"unopened":[],"bounds":{"document_bytes":16777216,"sheet_cells":100000,"rows_first":2000,"rows_last":500,"rows_between":2000,"halvings":0,"cell_chars":16384,"cell_head_chars":4096},"cells_cut":0,"cells_raw":0,"read":"whole","date_system":"1900"}

{"sheet":"데이터","index":0,"n_rows":15,"n_cols":11,"rows_kept":15,"cut":false,"hidden":false,"merged":[]}
["순번","주차라인","앞번호","차량번호","메모","연락처","색상","차종","주차시간","출차시간","영상확인"]
[1,8,"1가",1001,"통화","010-0000-0001","흰색","크루저","2015-11-17","2015-11-17",0]
[2,9,"2가",1002,"통화","010-0000-0002","은색","카렌스","2015-11-17","2015-11-17",0]
[3,12,"3가",1003,"1차 경고문 부착","010-0000-0003","파랑\t","포터\t","2015-11-18 오전 7:18:00"]
[4,22,"4가",1004,"1차 경고문 부착","010-0000-0004","파랑","포터","2015-11-18 오전 7:36:00"]
[5,24,"5가",1005,"1차 경고문 부착","010-0000-0005","흰색","포터","2015-11-18 오전 7:04:00","2015-11-18 오후 2:10:00",0]
[6,19,"6가",1006,"스티커부착","010-0000-0006","파랑","포터","2015-11-19 오전 7:2:10","2015-11-19 오후 4:30:57",0]
[7,50,"7가",1007,"일행, 스티커부착","010-0000-0007","흰색","포터","2015-11-19 오전 6:12:54","2015-11-19 오후 4:29:06",0]
[8,51,"8가",1008,"일행, 스티커부착","010-0000-0008","은색","레조","2015-11-19 오전 6:12:54","2015-11-19 오후 4:29:06",0]
[9,52,"9가",1009,"일행, 스티커부착","010-0000-0009","검정","카니발","2015-11-19 오전 6:12:54","2015-11-19 오후 4:29:06",0]
[10,41,"10가",1010,"일행, 스티커부착","010-0000-0010","흰색","소나타","2015-11-19 오전 6:12:54","2015-11-19 오후 4:29:06",0]
[11,23,"11가",1011,"스티커 부착","010-0000-0011","파랑","포터","2015-11-20 오전 7:00:43"]
[12,21,"12가",1012,"스티커 부착","010-0000-0012","파랑","포터","2015-11-20 오전 8:43:25","2015-11-20 오후 12:33:25",0]
[13,51,"13가",1013,"스티커 부착","010-0000-0013","파랑","포터","2015-11-20 오전 7:12:32"]
[14,22,"14가",1014,"스티커 부착","010-0000-0014","검정","에쿠스","2015-11-20 오전 07:00:37"]

{"sheet":"스티커","index":1,"n_rows":26,"n_cols":1,"rows_kept":26,"cut":false,"hidden":false,"merged":[[14,0,16,13],[17,0,19,13],[5,0,13,13],[0,0,4,13],[25,0,28,13],[22,0,24,13]]}
[{"$f":"\"- 주  차   금  지 -\"","v":"- 주  차   금  지 -"}]
[]
[]
[]
[]
["이곳은 교직원 주차장이므로\n외부인의 주차를 금지합니다."]
[]
[]
[]
[]
[]
[]
[]
[]
["상습 불법주차시 견인조치될 수 있으며,"]
[]
[]
["민원업무차 방문시 행정실을 경유하시기 바랍니다."]
[]
[]
[]
[]
["주차시간: "]
[]
[]
["2015-11-20 오후 4:03:00"]

{"sheet":"info","index":2,"n_rows":54,"n_cols":4,"rows_kept":54,"cut":false,"hidden":true,"merged":[]}
[{"$f":"MAX(데이터!A:A)+1","v":15},"사용방법: 주차배치도에서 불법주차된 차량위치를 찍은다음, 차량번호를 입력하여 등록, \r\n              추가적인 자료까지 입력하면 이력이 생성되어 조회시 도움이 됩니다.","녹색",1]
[null,null,"적색",2]
[1,{"$f":"COUNTIF(데이터!B:B,info!A3)","v":0}]
[2,{"$f":"COUNTIF(데이터!B:B,info!A4)","v":0}]
[3,{"$f":"COUNTIF(데이터!B:B,info!A5)","v":0}]
[4,{"$f":"COUNTIF(데이터!B:B,info!A6)","v":0}]
[5,{"$f":"COUNTIF(데이터!B:B,info!A7)","v":0}]
[6,{"$f":"COUNTIF(데이터!B:B,info!A8)","v":0}]
[7,{"$f":"COUNTIF(데이터!B:B,info!A9)","v":0}]
[8,{"$f":"COUNTIF(데이터!B:B,info!A10)","v":1}]
[9,{"$f":"COUNTIF(데이터!B:B,info!A11)","v":1}]
[10,{"$f":"COUNTIF(데이터!B:B,info!A12)","v":0}]
[11,{"$f":"COUNTIF(데이터!B:B,info!A13)","v":0}]
[12,{"$f":"COUNTIF(데이터!B:B,info!A14)","v":1}]
[13,{"$f":"COUNTIF(데이터!B:B,info!A15)","v":0}]
[14,{"$f":"COUNTIF(데이터!B:B,info!A16)","v":0}]
[15,{"$f":"COUNTIF(데이터!B:B,info!A17)","v":0}]
[16,{"$f":"COUNTIF(데이터!B:B,info!A18)","v":0}]
[17,{"$f":"COUNTIF(데이터!B:B,info!A19)","v":0}]
[18,{"$f":"COUNTIF(데이터!B:B,info!A20)","v":0}]
[19,{"$f":"COUNTIF(데이터!B:B,info!A21)","v":1}]
[20,{"$f":"COUNTIF(데이터!B:B,info!A22)","v":0}]
[21,{"$f":"COUNTIF(데이터!B:B,info!A23)","v":1}]
[22,{"$f":"COUNTIF(데이터!B:B,info!A24)","v":2}]
[23,{"$f":"COUNTIF(데이터!B:B,info!A25)","v":1}]
[24,{"$f":"COUNTIF(데이터!B:B,info!A26)","v":1}]
[25,{"$f":"COUNTIF(데이터!B:B,info!A27)","v":0}]
[26,{"$f":"COUNTIF(데이터!B:B,info!A28)","v":0}]
[27,{"$f":"COUNTIF(데이터!B:B,info!A29)","v":0}]
[28,{"$f":"COUNTIF(데이터!B:B,info!A30)","v":0}]
[29,{"$f":"COUNTIF(데이터!B:B,info!A31)","v":0}]
[30,{"$f":"COUNTIF(데이터!B:B,info!A32)","v":0}]
[31,{"$f":"COUNTIF(데이터!B:B,info!A33)","v":0}]
[32,{"$f":"COUNTIF(데이터!B:B,info!A34)","v":0}]
[33,{"$f":"COUNTIF(데이터!B:B,info!A35)","v":0}]
[34,{"$f":"COUNTIF(데이터!B:B,info!A36)","v":0}]
[35,{"$f":"COUNTIF(데이터!B:B,info!A37)","v":0}]
[36,{"$f":"COUNTIF(데이터!B:B,info!A38)","v":0}]
[37,{"$f":"COUNTIF(데이터!B:B,info!A39)","v":0}]
[38,{"$f":"COUNTIF(데이터!B:B,info!A40)","v":0}]
[39,{"$f":"COUNTIF(데이터!B:B,info!A41)","v":0}]
[40,{"$f":"COUNTIF(데이터!B:B,info!A42)","v":0}]
[41,{"$f":"COUNTIF(데이터!B:B,info!A43)","v":1}]
[42,{"$f":"COUNTIF(데이터!B:B,info!A44)","v":0}]
[43,{"$f":"COUNTIF(데이터!B:B,info!A45)","v":0}]
[44,{"$f":"COUNTIF(데이터!B:B,info!A46)","v":0}]
[45,{"$f":"COUNTIF(데이터!B:B,info!A47)","v":0}]
[46,{"$f":"COUNTIF(데이터!B:B,info!A48)","v":0}]
[47,{"$f":"COUNTIF(데이터!B:B,info!A49)","v":0}]
[48,{"$f":"COUNTIF(데이터!B:B,info!A50)","v":0}]
[49,{"$f":"COUNTIF(데이터!B:B,info!A51)","v":0}]
[50,{"$f":"COUNTIF(데이터!B:B,info!A52)","v":1}]
[51,{"$f":"COUNTIF(데이터!B:B,info!A53)","v":2}]
[52,{"$f":"COUNTIF(데이터!B:B,info!A54)","v":1}]